BEGIN:VCALENDAR
VERSION:2.0
PRODID:www.stappen-shoppen.nl
BEGIN:VEVENT
UID:stappen-shoppen.nl/entity/69c7d61a8ea6d614d60dbca4
DTSTAMP:20260423T025622Z
ORGANIZER;CN=:MAILTO:
DTSTART:20260701T060000Z
DTEND:20260701T150000Z
URL:https://en.visitbaarle.com/ical/69c7d61a8ea6d614d60dbca4
SUMMARY:Onthulling Petrus Christus beeldje
DESCRIPTION:Onthulling van het Petrus Christus beeldje in het Petrus Christuspark in Baarle-Hertog. 
END:VEVENT
END:VCALENDAR

