BEGIN:VCALENDAR
VERSION:2.0
PRODID:www.stappen-shoppen.nl
BEGIN:VEVENT
UID:stappen-shoppen.nl/entity/68305eb8c67ce87b940d4e87
DTSTAMP:20260423T025815Z
ORGANIZER;CN=:MAILTO:
DTSTART:20260604T170000Z
DTEND:20260604T180000Z
URL:https://en.visitbaarle.com/ical/68305eb8c67ce87b940d4e87
SUMMARY:Zomeravondwandeling
DESCRIPTION:Zin in een gezellige en verrassende avondwandeling? 
END:VEVENT
END:VCALENDAR

